BEGIN:VCALENDAR
VERSION:2.0
PRODID:spatie/icalendar-generator
DESCRIPTION:Veranstaltungen von Regionale Planungsgruppe Ulm-Wiblingen
X-WR-CALDESC:Veranstaltungen von Regionale Planungsgruppe Ulm-Wiblingen
REFRESH-INTERVAL;VALUE=DURATION:PT1440M
X-PUBLISHED-TTL:PT1440M
BEGIN:VTIMEZONE
TZID:Europe/Berlin
BEGIN:DAYLIGHT
DTSTART:20260329T020000Z
TZOFFSETFROM:+0100
TZOFFSETTO:+0200
END:DAYLIGHT
BEGIN:STANDARD
DTSTART:20261025T030000Z
TZOFFSETFROM:+0200
TZOFFSETTO:+0100
END:STANDARD
BEGIN:DAYLIGHT
DTSTART:20270328T020000Z
TZOFFSETFROM:+0100
TZOFFSETTO:+0200
END:DAYLIGHT
END:VTIMEZONE
BEGIN:VTIMEZONE
TZID:UTC
BEGIN:STANDARD
DTSTART:20250725T083924Z
TZOFFSETFROM:+0000
TZOFFSETTO:+0000
END:STANDARD
END:VTIMEZONE
BEGIN:VEVENT
UID:46-45
DTSTAMP:20260421T083924Z
SUMMARY:RPG-Sitzung - Weihnachtsessen
LOCATION:Bürgerzentrum Wiblingen\, 1. Stock
ORGANIZER;CN=admin:MAILTO:admin@johannes-grimm.de
DTSTART;TZID=Europe/Berlin:20261204T190000
DTEND;TZID=Europe/Berlin:20261204T210000
X-ALT-DESC;FMTTYPE=TEXT/HTML:Sitzungsunterlagen: Protokoll:
CATEGORIES:Sitzungen
URL;VALUE=URI:https://rpgwiblingen.de/mc-events/rpg-sitzung-weihnachtsessen
 -2/
METHOD:PUBLISH
END:VEVENT
END:VCALENDAR