BEGIN:VCALENDAR
VERSION:2.0
PRODID:spatie/icalendar-generator
DESCRIPTION:Veranstaltungen von Regionale Planungsgruppe Ulm-Wiblingen
X-WR-CALDESC:Veranstaltungen von Regionale Planungsgruppe Ulm-Wiblingen
REFRESH-INTERVAL;VALUE=DURATION:PT1440M
X-PUBLISHED-TTL:PT1440M
BEGIN:VTIMEZONE
TZID:Europe/Berlin
BEGIN:DAYLIGHT
DTSTART:20230326T020000Z
TZOFFSETFROM:+0100
TZOFFSETTO:+0200
END:DAYLIGHT
BEGIN:STANDARD
DTSTART:20231029T030000Z
TZOFFSETFROM:+0200
TZOFFSETTO:+0100
END:STANDARD
BEGIN:DAYLIGHT
DTSTART:20240331T020000Z
TZOFFSETFROM:+0100
TZOFFSETTO:+0200
END:DAYLIGHT
END:VTIMEZONE
BEGIN:VTIMEZONE
TZID:UTC
BEGIN:STANDARD
DTSTART:20250724T122159Z
TZOFFSETFROM:+0000
TZOFFSETTO:+0000
END:STANDARD
END:VTIMEZONE
BEGIN:VEVENT
UID:10-9
DTSTAMP:20260420T122159Z
SUMMARY:RPG-Sitzung
LOCATION:Bürgerzentrum Wiblingen\, 1. Stock
ORGANIZER;CN=admin:MAILTO:admin@johannes-grimm.de
DTSTART;TZID=Europe/Berlin:20231123T190000
DTEND;TZID=Europe/Berlin:20231123T210000
X-ALT-DESC;FMTTYPE=TEXT/HTML:
CATEGORIES:Sitzungen
URL;VALUE=URI:https://rpgwiblingen.de/mc-events/rpg-sitzung-8/
METHOD:PUBLISH
END:VEVENT
END:VCALENDAR